BEGIN:VCALENDAR
VERSION:2.0
PRODID:-//Tukios.com/
BEGIN:VEVENT
UID:876997f3-067a-47a7-b53c-bc5c44b83dd2@www.beuschelfuneralhome.com
DTSTAMP:20260424T224342Z
DTSTART:20260429T210000Z
DTEND:20260429T230000Z
SUMMARY:Visitation
DESCRIPTION:
URL:https://www.beuschelfuneralhome.com/obituaries/james-jeffries-jr
LOCATION:Beuschel Funeral Home 5018 Alpine Ave NW  Comstock Park MI 49321
GEO:43.0547434;-85.6886434
END:VEVENT
END:VCALENDAR